BEGIN:VCALENDAR
VERSION:2.0
PRODID:-//ChamberMaster//Event Calendar 2.0//EN
METHOD:PUBLISH
X-PUBLISHED-TTL:P3D
REFRESH-INTERVAL:P3D
CALSCALE:GREGORIAN
BEGIN:VEVENT
DTSTART:20260626T190000Z
DTEND:20260626T200000Z
X-MICROSOFT-CDO-ALLDAYEVENT:FALSE
SUMMARY:Women in the Workforce Presents: The Mechanics of Influence
DESCRIPTION:
X-ALT-DESC;FMTTYPE=text/html:
LOCATION:Virtual Event Register to Attend!
UID:e.9441.5398
SEQUENCE:3
DTSTAMP:20260425T023241Z
URL:https://tech.aztechcouncil.org/events/details/women-in-the-workforce-presents-the-mechanics-of-influence-5398
END:VEVENT

END:VCALENDAR
