BEGIN:VCALENDAR
VERSION:2.0
PRODID:-//ChamberMaster//Event Calendar 2.0//EN
METHOD:PUBLISH
X-PUBLISHED-TTL:P3D
REFRESH-INTERVAL:P3D
CALSCALE:GREGORIAN
BEGIN:VEVENT
DTSTART:20260731T000000Z
DTEND:20260731T020000Z
X-MICROSOFT-CDO-ALLDAYEVENT:FALSE
SUMMARY:Tucson Q3 VIP after5 Tech Mixer: Hosted by University of Arizona
DESCRIPTION:
X-ALT-DESC;FMTTYPE=text/html:
LOCATION:
UID:e.9441.5397
SEQUENCE:3
DTSTAMP:20260422T203224Z
URL:https://tech.aztechcouncil.org/events/details/tucson-q3-vip-after5-tech-mixer-hosted-by-university-of-arizona-5397
END:VEVENT

END:VCALENDAR
