BEGIN:VCALENDAR
VERSION:2.0
PRODID:-//ChamberMaster//Event Calendar 2.0//EN
METHOD:PUBLISH
X-PUBLISHED-TTL:P3D
REFRESH-INTERVAL:P3D
CALSCALE:GREGORIAN
BEGIN:VEVENT
DTSTART:20260520T003000Z
DTEND:20260520T023000Z
X-MICROSOFT-CDO-ALLDAYEVENT:FALSE
SUMMARY:Tucson after5 Tech Mixer: Hosted by Town of Oro Valley
DESCRIPTION:
X-ALT-DESC;FMTTYPE=text/html:
LOCATION:Tohono Chul Botanical Gardens 7366 N Paseo Del Norte Tucson\, AZ 85704 MAP: https://tinyurl.com/2vwj8u3e
UID:e.9441.5364
SEQUENCE:3
DTSTAMP:20260422T021923Z
URL:https://tech.aztechcouncil.org/events/details/tucson-after5-tech-mixer-hosted-by-town-of-oro-valley-5364
END:VEVENT

END:VCALENDAR
