BEGIN:VCALENDAR
VERSION:2.0
PRODID:-//ChamberMaster//Event Calendar 2.0//EN
METHOD:PUBLISH
X-PUBLISHED-TTL:P3D
REFRESH-INTERVAL:P3D
CALSCALE:GREGORIAN
BEGIN:VEVENT
DTSTART:20241120T221500Z
DTEND:20241121T003000Z
X-MICROSOFT-CDO-ALLDAYEVENT:FALSE
SUMMARY:Tech Inclusion Forum | Breaking Barriers: Disability Inclusion in Technology
DESCRIPTION:
X-ALT-DESC;FMTTYPE=text/html:
LOCATION:Scottsdale Galleria 4343 N. Scottsdale Rd. Scottsdale\, AZ 85251
UID:e.9441.5285
SEQUENCE:3
DTSTAMP:20260421T102450Z
URL:https://tech.aztechcouncil.org/events/details/tech-inclusion-forum-breaking-barriers-disability-inclusion-in-technology-5285
END:VEVENT

END:VCALENDAR
