BEGIN:VCALENDAR
VERSION:2.0
PRODID:-//ChamberMaster//Event Calendar 2.0//EN
METHOD:PUBLISH
X-PUBLISHED-TTL:P3D
REFRESH-INTERVAL:P3D
CALSCALE:GREGORIAN
BEGIN:VEVENT
DTSTART:20260501T000000Z
DTEND:20260501T020000Z
X-MICROSOFT-CDO-ALLDAYEVENT:FALSE
SUMMARY:Q2 VIP Tech Mixer hosted by Immedia
DESCRIPTION:Q2 VIP Tech Mixer
X-ALT-DESC;FMTTYPE=text/html:<p><strong>Q2 VIP Tech Mixer&nbsp\;</strong><br />\n&nbsp\;</p>\n
LOCATION:Immedia at NextSpace 8399 E. Hartford Dr. Scottsdale\, Arizona 85255
UID:e.9441.5391
SEQUENCE:3
DTSTAMP:20260420T134529Z
URL:https://tech.aztechcouncil.org/events/details/q2-vip-tech-mixer-hosted-by-immedia-5391
END:VEVENT

END:VCALENDAR
