BEGIN:VCALENDAR
VERSION:2.0
PRODID:-//ChamberMaster//Event Calendar 2.0//EN
METHOD:PUBLISH
X-PUBLISHED-TTL:P3D
REFRESH-INTERVAL:P3D
CALSCALE:GREGORIAN
BEGIN:VEVENT
DTSTART:20260513T194500Z
DTEND:20260513T230000Z
X-MICROSOFT-CDO-ALLDAYEVENT:FALSE
SUMMARY:2026 Arizona Manufacturing Showcase
DESCRIPTION:2026 Arizona Manufacturing Showcase
X-ALT-DESC;FMTTYPE=text/html:<strong>2026 Arizona Manufacturing Showcase</strong>
LOCATION:Grand Canyon University 5115 N. 27th Ave.\, Building 66 Phoenix \, AZ 85017
UID:e.9441.5389
SEQUENCE:3
DTSTAMP:20260420T095441Z
URL:https://tech.aztechcouncil.org/events/details/2026-arizona-manufacturing-showcase-5389
END:VEVENT

END:VCALENDAR
